BEGIN:VCALENDAR
VERSION:2.0
PRODID:-//wp-events-plugin.com//7.2.3.1//EN
TZID:America/Argentina/Cordoba
X-WR-TIMEZONE:America/Argentina/Cordoba
BEGIN:VEVENT
UID:0-732@ffyh.unc.edu.ar
DTSTART:20231201T200000Z
DTEND:20231201T200000Z
DTSTAMP:20231127T195646Z
URL:https://ffyh.unc.edu.ar/eventos/proyeccion-del-documental-sebastian-mo
 ro-el-caminante/
SUMMARY:Proyección del documental «Sebastián Moro\, el caminante»
DESCRIPTION:Será el viernes 1º de diciembre\, a las 20 horas en el Centro
  Cultural 𝙇𝙖 𝙋𝙞𝙤𝙟𝙚𝙧𝙖\, Av. Colón 1559\, Córdo
 ba. En ese marco se llevará a cabo un panel debate.\n\n
ATTACH;FMTTYPE=image/jpeg:https://ffyh.unc.edu.ar/wp-content/uploads/2023/
 11/documental-moro-scaled.jpg
CATEGORIES:Cultura
END:VEVENT
END:VCALENDAR