BEGIN:VCALENDAR
VERSION:2.0
PRODID:-//wp-events-plugin.com//7.2.3.1//EN
TZID:America/Argentina/Cordoba
X-WR-TIMEZONE:America/Argentina/Cordoba
BEGIN:VEVENT
UID:0-835@ffyh.unc.edu.ar
DTSTART:20241015T000000Z
DTEND:20241015T000000Z
DTSTAMP:20241008T151734Z
URL:https://ffyh.unc.edu.ar/eventos/remixaton-de-recursos-educativos/
SUMMARY:Remixaton de recursos educativos
DESCRIPTION:El Área de Tecnología Educativa (FFyH-UNC) invita a participa
 r de la primera actividad de la Agenda Interuniversitaria de Acceso Abier
 to.\n\n
ATTACH;FMTTYPE=image/jpeg:https://ffyh.unc.edu.ar/wp-content/uploads/2024/
 10/remixaton.jpeg
CATEGORIES:Jornadas
END:VEVENT
END:VCALENDAR