BEGIN:VCALENDAR
VERSION:2.0
PRODID:-//wp-events-plugin.com//7.2.3.1//EN
TZID:America/Argentina/Cordoba
X-WR-TIMEZONE:America/Argentina/Cordoba
BEGIN:VEVENT
UID:0-168@ffyh.unc.edu.ar
DTSTART:20190321T160000Z
DTEND:20190321T180000Z
DTSTAMP:20190320T195235Z
URL:https://ffyh.unc.edu.ar/eventos/reunion-informativa-sobre-becas-intern
 acionales-de-intercambio-estudiantil/
SUMMARY:Reunión informativa sobre becas internacionales de intercambio est
 udiantil
DESCRIPTION:El jueves 21 de marzo\, a las 16 hs\, en el Auditorio Hugo Chá
 vez del Pabellón Venezuela\, se realizará una reunión informativa sobre
  las convocatorias de becas internacionales de intercambio estudiantil\, o
 rganizada por la Prosecretaría de Relaciones Internacionales e Interinsti
 tucionales de la FFyH.\n\n
ATTACH;FMTTYPE=image/jpeg:https://ffyh.unc.edu.ar/wp-content/uploads/2019/
 03/becas-internacionales-1.jpg
CATEGORIES:Convocatorias
LOCATION:Pabellón República Bolivariana de Venezuela\, Ciudad Universitar
 ia\, Córdoba\, Córdoba\, Argentina
GEO:-31.4374167;-64.18897420000002
X-APPLE-STRUCTURED-LOCATION;VALUE=URI;X-ADDRESS=Ciudad Universitaria\, Cór
 doba\, Córdoba\, Argentina;X-APPLE-RADIUS=100;X-TITLE=Pabellón Repúblic
 a Bolivariana de Venezuela:geo:-31.4374167,-64.18897420000002
END:VEVENT
END:VCALENDAR