BEGIN:VCALENDAR
VERSION:2.0
PRODID:-//wp-events-plugin.com//7.2.3.1//EN
TZID:America/Argentina/Cordoba
X-WR-TIMEZONE:America/Argentina/Cordoba
BEGIN:VEVENT
UID:0-880@ffyh.unc.edu.ar
DTSTART:20250528T000000Z
DTEND:20250530T000000Z
DTSTAMP:20250327T201102Z
URL:https://ffyh.unc.edu.ar/eventos/revueltas-perversas-jornadas-queer-cui
 r/
SUMMARY:Revueltas perversas | Jornadas queer/cuir
DESCRIPTION: Se desarrollarán los días 28\, 29 y 30 de mayo de 2025 en l
 a Facultad de Filosofía y Humanidades.\n\n
ATTACH;FMTTYPE=image/jpeg:https://ffyh.unc.edu.ar/wp-content/uploads/2025/
 02/RP_1.jpg
CATEGORIES:Jornadas
END:VEVENT
END:VCALENDAR