BEGIN:VCALENDAR
VERSION:2.0
PRODID:-//wp-events-plugin.com//7.2.3.1//EN
TZID:America/Argentina/Cordoba
X-WR-TIMEZONE:America/Argentina/Cordoba
BEGIN:VEVENT
UID:0-718@ffyh.unc.edu.ar
DTSTART:20231109T000000Z
DTEND:20231109T000000Z
DTSTAMP:20231109T161907Z
URL:https://ffyh.unc.edu.ar/eventos/se-viene-el-travapalooza/
SUMMARY:¡Se viene el Travapalooza!
DESCRIPTION:Se trata de un espacio creado para visibilizar el habitar de la
 s personas travestis\, trans y no binaries en la Facultad de Filosofía y 
 Humanidades de la UNC\, y se llevará a cabo el jueves 9 de noviembre\, de
  17 a 23 hs\, en Plaza Seca\, Ciudad Universitaria.\n\n
ATTACH;FMTTYPE=image/jpeg:https://ffyh.unc.edu.ar/wp-content/uploads/2023/
 10/travapalooza.jpeg
CATEGORIES:Cultura
END:VEVENT
END:VCALENDAR