BEGIN:VCALENDAR
VERSION:2.0
PRODID:-//wp-events-plugin.com//7.2.3.1//EN
TZID:America/Argentina/Cordoba
X-WR-TIMEZONE:America/Argentina/Cordoba
BEGIN:VEVENT
UID:0-202@ffyh.unc.edu.ar
DTSTART:20190729T000000Z
DTEND:20190812T000000Z
DTSTAMP:20190808T161129Z
URL:https://ffyh.unc.edu.ar/eventos/segunda-convocatoria-becas-feip/
SUMMARY:Segunda convocatoria Becas Feip
DESCRIPTION:Desde el lunes 29 de julio hasta el lunes 12 de agosto estará 
 abierta la convocatoria online para solicitar las becas de apuntes para el
  segundo cuatrimestre de 2019. El Fondo Estudiantil para la Inclusión y l
 a Permanencia (FEIP) fue creado por iniciativa estudiantil mediante la re
 solución 581/10 del Consejo Directivo\, para apoyar económicamente a les
  estudiantes de grado de las distintas carreras de la Facultad.\n\n
ATTACH;FMTTYPE=image/jpeg:https://ffyh.unc.edu.ar/wp-content/uploads/2019/
 08/feip.jpg
CATEGORIES:Becas
LOCATION:Facultad de Filosofía y Humanidades\, Ciudad Universitaria\, Cór
 doba\, Córdoba\, 5000\, Córdoba\, Argentina
X-APPLE-STRUCTURED-LOCATION;VALUE=URI;X-ADDRESS=Ciudad Universitaria\, Cór
 doba\, Córdoba\, 5000\, Córdoba\, Argentina;X-APPLE-RADIUS=100;X-TITLE=F
 acultad de Filosofía y Humanidades:geo:0,0
END:VEVENT
END:VCALENDAR