BEGIN:VCALENDAR
VERSION:2.0
PRODID:-//wp-events-plugin.com//7.2.3.1//EN
TZID:America/Argentina/Cordoba
X-WR-TIMEZONE:America/Argentina/Cordoba
BEGIN:VEVENT
UID:0-374@ffyh.unc.edu.ar
DTSTART:20210916T170000Z
DTEND:20210916T190000Z
DTSTAMP:20210915T161553Z
URL:https://ffyh.unc.edu.ar/eventos/segunda-edicion-del-ciclo-interpelacio
 nes/
SUMMARY:Segunda edición del ciclo Interpelaciones
DESCRIPTION:El jueves 16 de septiembre continúa la segunda edición de Int
 erpelaciones\, ciclo organizado por becaries del Centro de Investigaciones
  y del Instituto de Humanidades de la Facultad de Filosofía y Humanidades
  (UNC).\n\n
ATTACH;FMTTYPE=image/jpeg:https://ffyh.unc.edu.ar/wp-content/uploads/2021/
 08/INTERPELACIONES-II.jpeg
CATEGORIES:Jornadas
END:VEVENT
END:VCALENDAR