BEGIN:VCALENDAR
VERSION:2.0
PRODID:-//wp-events-plugin.com//7.2.3.1//EN
TZID:America/Argentina/Cordoba
X-WR-TIMEZONE:America/Argentina/Cordoba
BEGIN:VEVENT
UID:0-192@ffyh.unc.edu.ar
DTSTART:20190627T090000Z
DTEND:20190627T130000Z
DTSTAMP:20190610T164421Z
URL:https://ffyh.unc.edu.ar/eventos/segundo-conversatorio-para-estudiantes
 -de-letras-clasicas/
SUMMARY:Segundo conversatorio para estudiantes de Letras Clásicas
DESCRIPTION:Los grupos de investigación “Poéticas de la alusión en la 
 literatura latina” (CIFFyH) e “Interacción genérica\, textura y prof
 undidad poética y literaria en la literatura griega antigua” (CIFFyH)\,
  con  aval de la Escuela de Letras\, organizan el segundo Conversatorio p
 ara estudiantes de Letras Clásicas\, a cargo del conferencista invitado D
 r. Sebastián Carrizo (UNRosario).\n\n
ATTACH;FMTTYPE=image/jpeg:https://ffyh.unc.edu.ar/wp-content/uploads/2019/
 06/conversatorio-de-letras-clasicas.jpg
CATEGORIES:Jornadas
LOCATION:Pabellón Agustín Tosco\, Ciudad Universitaria\, Córdoba\, Argen
 tina
GEO:-31.4374167;-64.18897420000002
X-APPLE-STRUCTURED-LOCATION;VALUE=URI;X-ADDRESS=Ciudad Universitaria\, Cór
 doba\, Argentina;X-APPLE-RADIUS=100;X-TITLE=Pabellón Agustín Tosco:geo:-
 31.4374167,-64.18897420000002
END:VEVENT
END:VCALENDAR