BEGIN:VCALENDAR
VERSION:2.0
PRODID:-//wp-events-plugin.com//7.2.3.1//EN
TZID:America/Argentina/Cordoba
X-WR-TIMEZONE:America/Argentina/Cordoba
BEGIN:VEVENT
UID:0-286@ffyh.unc.edu.ar
DTSTART:20201102T000000Z
DTEND:20201102T000000Z
DTSTAMP:20201022T185149Z
URL:https://ffyh.unc.edu.ar/eventos/septimo-concurso-literario-de-cuentos-
 cortos/
SUMMARY:Séptimo Concurso Literario de cuentos cortos
DESCRIPTION:La Asociación Cultural Israelita de Córdoba (Acic) junto con 
 la Escuela de Letras y la Oficina de Graduadxs de la Facultad de Filosofí
 a y Humanidades de la Universidad Nacional de Córdoba (UNC) lanzan la sé
 ptima edición del Concurso Literario de Cuentos. La convocatoria está ab
 ierta del 20 de agosto al 2 de noviembre.\n\n
ATTACH;FMTTYPE=image/jpeg:https://ffyh.unc.edu.ar/wp-content/uploads/2020/
 08/concurso-acic-2020-banner.jpg
CATEGORIES:Concursos,Convocatorias
END:VEVENT
END:VCALENDAR