BEGIN:VCALENDAR
VERSION:2.0
PRODID:-//wp-events-plugin.com//7.2.3.1//EN
TZID:America/Argentina/Cordoba
X-WR-TIMEZONE:America/Argentina/Cordoba
BEGIN:VEVENT
UID:0-657@ffyh.unc.edu.ar
DTSTART:20230710T000000Z
DTEND:20230721T000000Z
DTSTAMP:20230707T185641Z
URL:https://ffyh.unc.edu.ar/eventos/taller-curar-corregir-editar-publicar/
SUMMARY:Taller «Curar\, Corregir\, Editar\, Publicar»
DESCRIPTION:La Secretaría de Asuntos Estudiantiles y la Escuela de Letras 
 de la FFyH\, junto con la Editorial EDUVIM\, invitan a inscribirse al Tall
 er "Curar\, Corregir\, Editar\, Publicar"\, pensado para estudiantes de la
 s distintas carreras de la Escuela de Letras que aspiren a Becas de Trabaj
 o en Área de Publicaciones de la FFyH y Prácticas Socioeducativas en Edi
 torial Eduvim.\n\n
ATTACH;FMTTYPE=image/jpeg:https://ffyh.unc.edu.ar/wp-content/uploads/2023/
 07/flyer-corregir.jpeg
CATEGORIES:Convocatorias
END:VEVENT
END:VCALENDAR