BEGIN:VCALENDAR
VERSION:2.0
PRODID:-//wp-events-plugin.com//7.2.3.1//EN
TZID:America/Argentina/Cordoba
X-WR-TIMEZONE:America/Argentina/Cordoba
BEGIN:VEVENT
UID:0-92@ffyh.unc.edu.ar
DTSTART:20180803T120000Z
DTEND:20180813T150000Z
DTSTAMP:20180813T212244Z
URL:https://ffyh.unc.edu.ar/eventos/taller-de-aikido-en-la-ffyh-2/
SUMMARY:Taller de Aikido en la FFyH
DESCRIPTION:Durante el mes de agosto se llevará adelante un taller de Aiki
 do\, dirigido a estudiantes y otros claustros de la Facultad\, con el obje
 tivo de generar instancias que promuevan hábitos de vida saludables físi
 cos y psíquicos\, en especial en épocas de examen.\n\n
ATTACH;FMTTYPE=image/jpeg:https://ffyh.unc.edu.ar/wp-content/uploads/2018/
 08/aikido-agosto-2018.jpg
CATEGORIES:Cultura
LOCATION:Universidad Nacional de Córdoba\, Haya de la Torre s/n\, Córdoba
 \, Córdoba\, 5000\, Argentina
GEO:-31.4354855;-64.18557020000003
X-APPLE-STRUCTURED-LOCATION;VALUE=URI;X-ADDRESS=Haya de la Torre s/n\, Cór
 doba\, Córdoba\, 5000\, Argentina;X-APPLE-RADIUS=100;X-TITLE=Universidad 
 Nacional de Córdoba:geo:-31.4354855,-64.18557020000003
END:VEVENT
END:VCALENDAR