BEGIN:VCALENDAR
VERSION:2.0
PRODID:-//wp-events-plugin.com//7.2.3.1//EN
TZID:America/Argentina/Cordoba
X-WR-TIMEZONE:America/Argentina/Cordoba
BEGIN:VEVENT
UID:0-635@ffyh.unc.edu.ar
DTSTART:20230613T000000Z
DTEND:20230613T000000Z
DTSTAMP:20230602T182630Z
URL:https://ffyh.unc.edu.ar/eventos/taller-inicial-como-cargo-el-sigeva/
SUMMARY:Taller inicial: ¿Cómo cargo el SIGEVA?
DESCRIPTION:Se llevará a cabo el martes 13 de junio\, de 16 a 18 horas\, m
 ediante modalidad virtual.\n\n
ATTACH;FMTTYPE=image/jpeg:https://ffyh.unc.edu.ar/wp-content/uploads/2023/
 05/sigeva-nuevo.jpeg
CATEGORIES:Seminarios
END:VEVENT
END:VCALENDAR