BEGIN:VCALENDAR
VERSION:2.0
PRODID:-//wp-events-plugin.com//7.2.3.1//EN
TZID:America/Argentina/Cordoba
X-WR-TIMEZONE:America/Argentina/Cordoba
BEGIN:VEVENT
UID:0-376@ffyh.unc.edu.ar
DTSTART:20211006T180000Z
DTEND:20211006T200000Z
DTSTAMP:20211006T200542Z
URL:https://ffyh.unc.edu.ar/eventos/taller-introductorio-a-las-infraestruc
 turas-de-datos-espaciales/
SUMMARY:Taller introductorio a las infraestructuras de datos espaciales
DESCRIPTION:Comienza el miércoles 6 de octubre\, organizado por el Departa
 mento de Geografía de la FFyH. Se realizará en tres encuentros virtuales
  de 18 a 20 horas.\n\n
ATTACH;FMTTYPE=image/jpeg:https://ffyh.unc.edu.ar/wp-content/uploads/2021/
 09/TALLER-INTRODUCTORIO-A-LAS-INFRAESTRUCTURAS-DE-DATOS-ESPACIALES.jpg
CATEGORIES:Seminarios
END:VEVENT
END:VCALENDAR