BEGIN:VCALENDAR
VERSION:2.0
PRODID:-//wp-events-plugin.com//7.2.3.1//EN
TZID:America/Argentina/Cordoba
X-WR-TIMEZONE:America/Argentina/Cordoba
BEGIN:VEVENT
UID:0-643@ffyh.unc.edu.ar
DTSTART:20230704T150000Z
DTEND:20230704T150000Z
DTSTAMP:20230609T164743Z
URL:https://ffyh.unc.edu.ar/eventos/taller-ley-micaela-para-docentes-de-la
 -ffyh/
SUMMARY:Taller Ley Micaela para Docentes de la FFyH
DESCRIPTION:Se realizará el martes 4 de julio a las 15hs\, en el aula D de
 l Pabellón Residencial.\n
ATTACH;FMTTYPE=image/jpeg:https://ffyh.unc.edu.ar/wp-content/uploads/2023/
 06/taller-micaela-docentes.jpeg
CATEGORIES:Jornadas
LOCATION:Pabellón Residencial\, Ciudad Universitaria\, Córdoba\, Argentin
 a
GEO:-31.4374167;-64.18897420000002
X-APPLE-STRUCTURED-LOCATION;VALUE=URI;X-ADDRESS=Ciudad Universitaria\, Cór
 doba\, Argentina;X-APPLE-RADIUS=100;X-TITLE=Pabellón Residencial:geo:-31.
 4374167,-64.18897420000002
END:VEVENT
END:VCALENDAR