BEGIN:VCALENDAR
VERSION:2.0
PRODID:-//wp-events-plugin.com//7.2.3.1//EN
TZID:America/Argentina/Cordoba
X-WR-TIMEZONE:America/Argentina/Cordoba
BEGIN:VEVENT
UID:0-360@ffyh.unc.edu.ar
DTSTART:20210827T160000Z
DTEND:20210827T160000Z
DTSTAMP:20210819T175525Z
URL:https://ffyh.unc.edu.ar/eventos/taller-violencias-de-genero-y-derechos
 -en-la-unc/
SUMMARY:Taller "Violencias de género y Derechos en la UNC"
DESCRIPTION:Reconociendo nuestros derechos para exigir y ejercer una vida l
 ibre de violencias y discriminaciones de género.\n\n
ATTACH;FMTTYPE=image/jpeg:https://ffyh.unc.edu.ar/wp-content/uploads/2021/
 07/flyer-violencia-genero-pameg.jpeg
CATEGORIES:Jornadas
END:VEVENT
END:VCALENDAR