BEGIN:VCALENDAR
VERSION:2.0
PRODID:-//wp-events-plugin.com//7.2.3.1//EN
TZID:America/Argentina/Cordoba
X-WR-TIMEZONE:America/Argentina/Cordoba
BEGIN:VEVENT
UID:0-595@ffyh.unc.edu.ar
DTSTART:20230331T000000Z
DTEND:20230331T000000Z
DTSTAMP:20230329T150821Z
URL:https://ffyh.unc.edu.ar/eventos/textual-textil-construcciones-de-memor
 ias-en-torno-al-24-de-marzo/
SUMMARY:TEXTUAL/TEXTIL. Construcciones de memorias en torno al 24 de marzo
DESCRIPTION:Las actividades se llevarán a cabo los días 28 y 31 de marzo\
 , organizadas por la Biblioteca "Elma K. de Estrabou”\, la Escuela de Le
 tras y el Programa de Derechos Humanos de la FFyH\, junto con el Archivo P
 rovincial de la Memoria.\n\n
ATTACH;FMTTYPE=image/jpeg:https://ffyh.unc.edu.ar/wp-content/uploads/2023/
 03/textual-textil-1.jpeg
CATEGORIES:Cultura
LOCATION:Pabellón Francia\, Ciudad Universitaria\, Córdoba\, Córdoba\, A
 rgentina
GEO:-31.4374167;-64.18897420000002
X-APPLE-STRUCTURED-LOCATION;VALUE=URI;X-ADDRESS=Ciudad Universitaria\, Cór
 doba\, Córdoba\, Argentina;X-APPLE-RADIUS=100;X-TITLE=Pabellón Francia:g
 eo:-31.4374167,-64.18897420000002
END:VEVENT
END:VCALENDAR