BEGIN:VCALENDAR
VERSION:2.0
PRODID:-//wp-events-plugin.com//7.2.3.1//EN
TZID:America/Argentina/Cordoba
X-WR-TIMEZONE:America/Argentina/Cordoba
BEGIN:VEVENT
UID:0-402@ffyh.unc.edu.ar
DTSTART:20220511T000000Z
DTEND:20220513T000000Z
DTSTAMP:20220509T170820Z
URL:https://ffyh.unc.edu.ar/eventos/v-taller-de-zooarqueologia-de-camelido
 s/
SUMMARY:V Taller de Zooarqueología de Camélidos
DESCRIPTION:El V Taller Internacional de Zooarqueología de Camélidos tend
 rá lugar del 11 al 13 de mayo de 2022 en la ciudad de Córdoba.\n\n
ATTACH;FMTTYPE=image/jpeg:https://ffyh.unc.edu.ar/wp-content/uploads/2021/
 12/taller-zooarqueologia-camelidos.jpg
CATEGORIES:Congresos
END:VEVENT
END:VCALENDAR