BEGIN:VCALENDAR
VERSION:2.0
PRODID:-//wp-events-plugin.com//7.2.3.1//EN
TZID:America/Argentina/Cordoba
X-WR-TIMEZONE:America/Argentina/Cordoba
BEGIN:VEVENT
UID:0-120@ffyh.unc.edu.ar
DTSTART:20180919T143000Z
DTEND:20180919T150000Z
DTSTAMP:20180919T205141Z
URL:https://ffyh.unc.edu.ar/eventos/vi-taller-de-historia-intelectual/
SUMMARY:VI Taller de Historia Intelectual
DESCRIPTION:En el marco de los 10 años del Taller de Historia Intelectual 
 el 19 de septiembre en el Museo Histórico Provincial Marqués de Sobremon
 te (Rosario de Santa Fe 218) a las 14:30 hs. se dará inicio al VI Taller 
 de Historia Intelectual.\n\n
ATTACH;FMTTYPE=image/jpeg:https://ffyh.unc.edu.ar/wp-content/uploads/2018/
 09/Afiche-VI-Taller-de-Historia-Intelectual-1.jpg
CATEGORIES:Jornadas
LOCATION:Museo Sobremonte\, Rosario de Santa Fe 218\, Córdoba\, Argentina
GEO:-31.4168907;-64.1811485
X-APPLE-STRUCTURED-LOCATION;VALUE=URI;X-ADDRESS=Rosario de Santa Fe 218\, C
 órdoba\, Argentina;X-APPLE-RADIUS=100;X-TITLE=Museo Sobremonte:geo:-31.41
 68907,-64.1811485
END:VEVENT
END:VCALENDAR