BEGIN:VCALENDAR
VERSION:2.0
PRODID:-//wp-events-plugin.com//7.2.3.1//EN
TZID:America/Argentina/Cordoba
X-WR-TIMEZONE:America/Argentina/Cordoba
BEGIN:VEVENT
UID:0-381@ffyh.unc.edu.ar
DTSTART:20211004T000000Z
DTEND:20211007T000000Z
DTSTAMP:20210929T162417Z
URL:https://ffyh.unc.edu.ar/eventos/visitas-guiadas-de-la-ffyh/
SUMMARY:Visitas guiadas de la FFyH
DESCRIPTION:La Secretaría de Asuntos Estudiantiles de la FFyH convoca a es
 tudiantes que hayan ingresado a la Facultad en 2020 y 2021 a sumarse a las
  visitas guiadas que se realizarán los días 4\, 6 y 7 de octubre.\n\n
ATTACH;FMTTYPE=image/jpeg:https://ffyh.unc.edu.ar/wp-content/uploads/2021/
 09/visitas.jpg
CATEGORIES:Convocatorias
END:VEVENT
END:VCALENDAR