BEGIN:VCALENDAR
VERSION:2.0
PRODID:-//wp-events-plugin.com//7.2.3.1//EN
TZID:America/Argentina/Cordoba
X-WR-TIMEZONE:America/Argentina/Cordoba
BEGIN:VEVENT
UID:0-134@ffyh.unc.edu.ar
DTSTART:20190715T000000Z
DTEND:20190715T000000Z
DTSTAMP:20190717T222837Z
URL:https://ffyh.unc.edu.ar/eventos/xx-congreso-nacional-de-arqueologia-ar
 gentina/
SUMMARY:XX Congreso Nacional de Arqueología Argentina
DESCRIPTION:Se realizará en la ciudad de Córdoba entre el 15 y 20 de juli
 o de 2019.\n\n
ATTACH;FMTTYPE=image/jpeg:https://ffyh.unc.edu.ar/wp-content/uploads/2018/
 10/congresocnaa.jpg
CATEGORIES:Congresos
LOCATION:Museo de Antropología\, Av. Hipólito Yrigoyen 174\, Córdoba\, A
 rgentina
GEO:-31.4227348;-64.1878188
X-APPLE-STRUCTURED-LOCATION;VALUE=URI;X-ADDRESS=Av. Hipólito Yrigoyen 174\
 , Córdoba\, Argentina;X-APPLE-RADIUS=100;X-TITLE=Museo de Antropología:g
 eo:-31.4227348,-64.1878188
END:VEVENT
END:VCALENDAR