BEGIN:VCALENDAR
VERSION:2.0
PRODID:-//wp-events-plugin.com//7.2.3.1//EN
TZID:America/Argentina/Cordoba
X-WR-TIMEZONE:America/Argentina/Cordoba
BEGIN:VEVENT
UID:0-632@ffyh.unc.edu.ar
DTSTART:20230522T000000Z
DTEND:20230522T000000Z
DTSTAMP:20230522T154244Z
URL:https://ffyh.unc.edu.ar/eventos/xxiii-encuentro-de-historia-regional-c
 omparada-programa-pihser/
SUMMARY:XXIII Encuentro de Historia Regional Comparada – Programa PIHSER
DESCRIPTION:Se realizará del 22 al 24 de mayo\, en el Aula Magna de la Esc
 uela de Historia (Pabellón España\, Ciudad Universitaria).\n\n
ATTACH;FMTTYPE=image/jpeg:https://ffyh.unc.edu.ar/wp-content/uploads/2023/
 05/pisher-1.jpg
LOCATION:Pabellón España\, Ciudad Universitaria\, Córdoba\, Córdoba\, 5
 000\, Argentina
GEO:-31.43501428080623;-64.18941214669644
X-APPLE-STRUCTURED-LOCATION;VALUE=URI;X-ADDRESS=Ciudad Universitaria\, Cór
 doba\, Córdoba\, 5000\, Argentina;X-APPLE-RADIUS=100;X-TITLE=Pabellón Es
 paña:geo:-31.43501428080623,-64.18941214669644
END:VEVENT
END:VCALENDAR